Workbook

Sheet Annual Records
A1: Year | B1: Name | C1: Graduates | D1: Philosophy Placed | E1: Total Other Postsecondary | F1: Law Placed | G1: Flags | H1: Note | I1: CHECKNumPhilPlacements | J1: CHECKName | K1: CHECKDuplicateYears
A2: 2018 | B2: Brandeis University | C2: 8 | D2: 6 | E2: 2 | I2: =COUNTIFS(Placement[Year],AnnualRecords[[#This Row],[Year]],Placement[Name],AnnualRecords[[#This Row],[Name]])=AnnualRecords[[#This Row],[Philosophy Placed]] -> TRUE | J2: =NOT(ISNA(MATCH(AnnualRecords[[#This Row],[Name]],YearRecord[Name],0)>0)) -> TRUE | K2: =COUNTIFS(AnnualRecords[Year],AnnualRecords[[#This Row],[Year]],AnnualRecords[Name],AnnualRecords[[#This Row],[Name]]) <= 1 -> TRUE
A3: 2018 | B3: California State University, Long Beach | C3: 1 | D3: 1 | F3: 0 | I3: =COUNTIFS(Placement[Year],AnnualRecords[[#This Row],[Year]],Placement[Name],AnnualRecords[[#This Row],[Name]])=AnnualRecords[[#This Row],[Philosophy Placed]] -> TRUE | J3: =NOT(ISNA(MATCH(AnnualRecords[[#This Row],[Name]],YearRecord[Name],0)>0)) -> TRUE | K3: =COUNTIFS(AnnualRecords[Year],AnnualRecords[[#This Row],[Year]],AnnualRecords[Name],AnnualRecords[[#This Row],[Name]]) <= 1 -> TRUE
A4: 2018 | B4: California State University, Los Angeles | C4: 1 | D4: 1 | F4: 0 | I4: =COUNTIFS(Placement[Year],AnnualRecords[[#This Row],[Year]],Placement[Name],AnnualRecords[[#This Row],[Name]])=AnnualRecords[[#This Row],[Philosophy Placed]] -> TRUE | J4: =NOT(ISNA(MATCH(AnnualRecords[[#This Row],[Name]],YearRecord[Name],0)>0)) -> TRUE | K4: =COUNTIFS(AnnualRecords[Year],AnnualRecords[[#This Row],[Year]],AnnualRecords[Name],AnnualRecords[[#This Row],[Name]]) <= 1 -> TRUE
A5: 2018 | B5: Colorado State University | C5: 6 | D5: 1 | E5: 1 | I5: =COUNTIFS(Placement[Year],AnnualRecords[[#This Row],[Year]],Placement[Name],AnnualRecords[[#This Row],[Name]])=AnnualRecords[[#This Row],[Philosophy Placed]] -> TRUE | J5: =NOT(ISNA(MATCH(AnnualRecords[[#This Row],[Name]],YearRecord[Name],0)>0)) -> TRUE | K5: =COUNTIFS(AnnualRecords[Year],AnnualRecords[[#This Row],[Year]],AnnualRecords[Name],AnnualRecords[[#This Row],[Name]]) <= 1 -> TRUE
A6: 2018 | B6: Florida State University | C6: 4 | D6: 1 | F6: 1 | I6: =COUNTIFS(Placement[Year],AnnualRecords[[#This Row],[Year]],Placement[Name],AnnualRecords[[#This Row],[Name]])=AnnualRecords[[#This Row],[Philosophy Placed]] -> TRUE | J6: =NOT(ISNA(MATCH(AnnualRecords[[#This Row],[Name]],YearRecord[Name],0)>0)) -> TRUE | K6: =COUNTIFS(AnnualRecords[Year],AnnualRecords[[#This Row],[Year]],AnnualRecords[Name],AnnualRecords[[#This Row],[Name]]) <= 1 -> TRUE
A7: 2018 | B7: Georgia State University | C7: 27 | D7: 17 | F7: 1 | I7: =COUNTIFS(Placement[Year],AnnualRecords[[#This Row],[Year]],Placement[Name],AnnualRecords[[#This Row],[Name]])=AnnualRecords[[#This Row],[Philosophy Placed]] -> TRUE | J7: =NOT(ISNA(MATCH(AnnualRecords[[#This Row],[Name]],YearRecord[Name],0)>0)) -> TRUE | K7: =COUNTIFS(AnnualRecords[Year],AnnualRecords[[#This Row],[Year]],AnnualRecords[Name],AnnualRecords[[#This Row],[Name]]) <= 1 -> TRUE
A8: 2018 | B8: Kent State University | C8: 3 | D8: 2 | F8: 0 | I8: =COUNTIFS(Placement[Year],AnnualRecords[[#This Row],[Year]],Placement[Name],AnnualRecords[[#This Row],[Name]])=AnnualRecords[[#This Row],[Philosophy Placed]] -> TRUE | J8: =NOT(ISNA(MATCH(AnnualRecords[[#This Row],[Name]],YearRecord[Name],0)>0)) -> TRUE | K8: =COUNTIFS(AnnualRecords[Year],AnnualRecords[[#This Row],[Year]],AnnualRecords[Name],AnnualRecords[[#This Row],[Name]]) <= 1 -> TRUE
A9: 2018 | B9: Northern Illinois University | C9: 12 | D9: 8 | F9: 1 | I9: =COUNTIFS(Placement[Year],AnnualRecords[[#This Row],[Year]],Placement[Name],AnnualRecords[[#This Row],[Name]])=AnnualRecords[[#This Row],[Philosophy Placed]] -> TRUE | J9: =NOT(ISNA(MATCH(AnnualRecords[[#This Row],[Name]],YearRecord[Name],0)>0)) -> TRUE | K9: =COUNTIFS(AnnualRecords[Year],AnnualRecords[[#This Row],[Year]],AnnualRecords[Name],AnnualRecords[[#This Row],[Name]]) <= 1 -> TRUE
A10: 2018 | B10: Oklahoma State University | C10: 6 | D10: 2 | I10: =COUNTIFS(Placement[Year],AnnualRecords[[#This Row],[Year]],Placement[Name],AnnualRecords[[#This Row],[Name]])=AnnualRecords[[#This Row],[Philosophy Placed]] -> TRUE | J10: =NOT(ISNA(MATCH(AnnualRecords[[#This Row],[Name]],YearRecord[Name],0)>0)) -> TRUE | K10: =COUNTIFS(AnnualRecords[Year],AnnualRecords[[#This Row],[Year]],AnnualRecords[Name],AnnualRecords[[#This Row],[Name]]) <= 1 -> TRUE
A11: 2018 | B11: Simon Fraser University | C11: 3 | D11: 3 | F11: 0 | I11: =COUNTIFS(Placement[Year],AnnualRecords[[#This Row],[Year]],Placement[Name],AnnualRecords[[#This Row],[Name]])=AnnualRecords[[#This Row],[Philosophy Placed]] -> TRUE | J11: =NOT(ISNA(MATCH(AnnualRecords[[#This Row],[Name]],YearRecord[Name],0)>0)) -> TRUE | K11: =COUNTIFS(AnnualRecords[Year],AnnualRecords[[#This Row],[Year]],AnnualRecords[Name],AnnualRecords[[#This Row],[Name]]) <= 1 -> TRUE
A12: 2018 | B12: Texas Tech University | C12: 8 | D12: 2 | F12: 0 | I12: =COUNTIFS(Placement[Year],AnnualRecords[[#This Row],[Year]],Placement[Name],AnnualRecords[[#This Row],[Name]])=AnnualRecords[[#This Row],[Philosophy Placed]] -> TRUE | J12: =NOT(ISNA(MATCH(AnnualRecords[[#This Row],[Name]],YearRecord[Name],0)>0)) -> TRUE | K12: =COUNTIFS(AnnualRecords[Year],AnnualRecords[[#This Row],[Year]],AnnualRecords[Name],AnnualRecords[[#This Row],[Name]]) <= 1 -> TRUE
A13: 2018 | B13: Tufts University | C13: 4 | D13: 3 | F13: 1 | I13: =COUNTIFS(Placement[Year],AnnualRecords[[#This Row],[Year]],Placement[Name],AnnualRecords[[#This Row],[Name]])=AnnualRecords[[#This Row],[Philosophy Placed]] -> TRUE | J13: =NOT(ISNA(MATCH(AnnualRecords[[#This Row],[Name]],YearRecord[Name],0)>0)) -> TRUE | K13: =COUNTIFS(AnnualRecords[Year],AnnualRecords[[#This Row],[Year]],AnnualRecords[Name],AnnualRecords[[#This Row],[Name]]) <= 1 -> TRUE
A14: 2018 | B14: University of Houston | C14: 8 | D14: 7 | F14: 0 | I14: =COUNTIFS(Placement[Year],AnnualRecords[[#This Row],[Year]],Placement[Name],AnnualRecords[[#This Row],[Name]])=AnnualRecords[[#This Row],[Philosophy Placed]] -> TRUE | J14: =NOT(ISNA(MATCH(AnnualRecords[[#This Row],[Name]],YearRecord[Name],0)>0)) -> TRUE | K14: =COUNTIFS(AnnualRecords[Year],AnnualRecords[[#This Row],[Year]],AnnualRecords[Name],AnnualRecords[[#This Row],[Name]]) <= 1 -> TRUE
A15: 2018 | B15: University of Mississippi | C15: 2 | D15: 2 | F15: 0 | I15: =COUNTIFS(Placement[Year],AnnualRecords[[#This Row],[Year]],Placement[Name],AnnualRecords[[#This Row],[Name]])=AnnualRecords[[#This Row],[Philosophy Placed]] -> TRUE | J15: =NOT(ISNA(MATCH(AnnualRecords[[#This Row],[Name]],YearRecord[Name],0)>0)) -> TRUE | K15: =COUNTIFS(AnnualRecords[Year],AnnualRecords[[#This Row],[Year]],AnnualRecords[Name],AnnualRecords[[#This Row],[Name]]) <= 1 -> TRUE
A16: 2018 | B16: University of North Carolina, Charlotte | C16: 7 | D16: 0 | F16: 0 | I16: =COUNTIFS(Placement[Year],AnnualRecords[[#This Row],[Year]],Placement[Name],AnnualRecords[[#This Row],[Name]])=AnnualRecords[[#This Row],[Philosophy Placed]] -> TRUE | J16: =NOT(ISNA(MATCH(AnnualRecords[[#This Row],[Name]],YearRecord[Name],0)>0)) -> TRUE | K16: =COUNTIFS(AnnualRecords[Year],AnnualRecords[[#This Row],[Year]],AnnualRecords[Name],AnnualRecords[[#This Row],[Name]]) <= 1 -> TRUE
A17: 2018 | B17: University of Wisconsin, Milwaukee | C17: 9 | D17: 7 | F17: 1 | I17: =COUNTIFS(Placement[Year],AnnualRecords[[#This Row],[Year]],Placement[Name],AnnualRecords[[#This Row],[Name]])=AnnualRecords[[#This Row],[Philosophy Placed]] -> TRUE | J17: =NOT(ISNA(MATCH(AnnualRecords[[#This Row],[Name]],YearRecord[Name],0)>0)) -> TRUE | K17: =COUNTIFS(AnnualRecords[Year],AnnualRecords[[#This Row],[Year]],AnnualRecords[Name],AnnualRecords[[#This Row],[Name]]) <= 1 -> TRUE
A18: 2018 | B18: Virginia Tech | C18: 5 | D18: 4 | F18: 0 | I18: =COUNTIFS(Placement[Year],AnnualRecords[[#This Row],[Year]],Placement[Name],AnnualRecords[[#This Row],[Name]])=AnnualRecords[[#This Row],[Philosophy Placed]] -> TRUE | J18: =NOT(ISNA(MATCH(AnnualRecords[[#This Row],[Name]],YearRecord[Name],0)>0)) -> TRUE | K18: =COUNTIFS(AnnualRecords[Year],AnnualRecords[[#This Row],[Year]],AnnualRecords[Name],AnnualRecords[[#This Row],[Name]]) <= 1 -> TRUE
A19: 2018 | B19: Western Michigan University | C19: 10 | D19: 5 | F19: 1 | I19: =COUNTIFS(Placement[Year],AnnualRecords[[#This Row],[Year]],Placement[Name],AnnualRecords[[#This Row],[Name]])=AnnualRecords[[#This Row],[Philosophy Placed]] -> TRUE | J19: =NOT(ISNA(MATCH(AnnualRecords[[#This Row],[Name]],YearRecord[Name],0)>0)) -> TRUE | K19: =COUNTIFS(AnnualRecords[Year],AnnualRecords[[#This Row],[Year]],AnnualRecords[Name],AnnualRecords[[#This Row],[Name]]) <= 1 -> TRUE
A20: 2018 | B20: University of Florida | C20: 2 | D20: 1 | F20: 1 | I20: =COUNTIFS(Placement[Year],AnnualRecords[[#This Row],[Year]],Placement[Name],AnnualRecords[[#This Row],[Name]])=AnnualRecords[[#This Row],[Philosophy Placed]] -> TRUE | J20: =NOT(ISNA(MATCH(AnnualRecords[[#This Row],[Name]],YearRecord[Name],0)>0)) -> TRUE | K20: =COUNTIFS(AnnualRecords[Year],AnnualRecords[[#This Row],[Year]],AnnualRecords[Name],AnnualRecords[[#This Row],[Name]]) <= 1 -> TRUE
A21: 2018 | B21: San Jose State University | C21: 7 | D21: 0 | E21: 0 | F21: 0 | I21: =COUNTIFS(Placement[Year],AnnualRecords[[#This Row],[Year]],Placement[Name],AnnualRecords[[#This Row],[Name]])=AnnualRecords[[#This Row],[Philosophy Placed]] -> TRUE | J21: =NOT(ISNA(MATCH(AnnualRecords[[#This Row],[Name]],YearRecord[Name],0)>0)) -> TRUE | K21: =COUNTIFS(AnnualRecords[Year],AnnualRecords[[#This Row],[Year]],AnnualRecords[Name],AnnualRecords[[#This Row],[Name]]) <= 1 -> TRUE
A22: 2018 | B22: University of Missouri Saint Louis | C22: 4 | D22: 2 | I22: =COUNTIFS(Placement[Year],AnnualRecords[[#This Row],[Year]],Placement[Name],AnnualRecords[[#This Row],[Name]])=AnnualRecords[[#This Row],[Philosophy Placed]] -> TRUE | J22: =NOT(ISNA(MATCH(AnnualRecords[[#This Row],[Name]],YearRecord[Name],0)>0)) -> TRUE | K22: =COUNTIFS(AnnualRecords[Year],AnnualRecords[[#This Row],[Year]],AnnualRecords[Name],AnnualRecords[[#This Row],[Name]]) <= 1 -> TRUE
A23: 2019 | B23: Brandeis University | C23: 11 | D23: 8 | E23: 1 | I23: =COUNTIFS(Placement[Year],AnnualRecords[[#This Row],[Year]],Placement[Name],AnnualRecords[[#This Row],[Name]])=AnnualRecords[[#This Row],[Philosophy Placed]] -> TRUE | J23: =NOT(ISNA(MATCH(AnnualRecords[[#This Row],[Name]],YearRecord[Name],0)>0)) -> TRUE | K23: =COUNTIFS(AnnualRecords[Year],AnnualRecords[[#This Row],[Year]],AnnualRecords[Name],AnnualRecords[[#This Row],[Name]]) <= 1 -> TRUE
A24: 2019 | B24: California State University, Long Beach | C24: 1 | D24: 1 | F24: 0 | I24: =COUNTIFS(Placement[Year],AnnualRecords[[#This Row],[Year]],Placement[Name],AnnualRecords[[#This Row],[Name]])=AnnualRecords[[#This Row],[Philosophy Placed]] -> TRUE | J24: =NOT(ISNA(MATCH(AnnualRecords[[#This Row],[Name]],YearRecord[Name],0)>0)) -> TRUE | K24: =COUNTIFS(AnnualRecords[Year],AnnualRecords[[#This Row],[Year]],AnnualRecords[Name],AnnualRecords[[#This Row],[Name]]) <= 1 -> TRUE
A25: 2019 | B25: California State University, Los Angeles | C25: 1 | D25: 1 | F25: 0 | I25: =COUNTIFS(Placement[Year],AnnualRecords[[#This Row],[Year]],Placement[Name],AnnualRecords[[#This Row],[Name]])=AnnualRecords[[#This Row],[Philosophy Placed]] -> TRUE | J25: =NOT(ISNA(MATCH(AnnualRecords[[#This Row],[Name]],YearRecord[Name],0)>0)) -> TRUE | K25: =COUNTIFS(AnnualRecords[Year],AnnualRecords[[#This Row],[Year]],AnnualRecords[Name],AnnualRecords[[#This Row],[Name]]) <= 1 -> TRUE
A26: 2019 | B26: Colorado State University | C26: 6 | D26: 1 | F26: 1 | I26: =COUNTIFS(Placement[Year],AnnualRecords[[#This Row],[Year]],Placement[Name],AnnualRecords[[#This Row],[Name]])=AnnualRecords[[#This Row],[Philosophy Placed]] -> TRUE | J26: =NOT(ISNA(MATCH(AnnualRecords[[#This Row],[Name]],YearRecord[Name],0)>0)) -> TRUE | K26: =COUNTIFS(AnnualRecords[Year],AnnualRecords[[#This Row],[Year]],AnnualRecords[Name],AnnualRecords[[#This Row],[Name]]) <= 1 -> TRUE
A27: 2019 | B27: Florida State University | C27: 10 | D27: 5 | I27: =COUNTIFS(Placement[Year],AnnualRecords[[#This Row],[Year]],Placement[Name],AnnualRecords[[#This Row],[Name]])=AnnualRecords[[#This Row],[Philosophy Placed]] -> TRUE | J27: =NOT(ISNA(MATCH(AnnualRecords[[#This Row],[Name]],YearRecord[Name],0)>0)) -> TRUE | K27: =COUNTIFS(AnnualRecords[Year],AnnualRecords[[#This Row],[Year]],AnnualRecords[Name],AnnualRecords[[#This Row],[Name]]) <= 1 -> TRUE
A28: 2019 | B28: Georgia State University | C28: 21 | D28: 12 | F28: 0 | I28: =COUNTIFS(Placement[Year],AnnualRecords[[#This Row],[Year]],Placement[Name],AnnualRecords[[#This Row],[Name]])=AnnualRecords[[#This Row],[Philosophy Placed]] -> TRUE | J28: =NOT(ISNA(MATCH(AnnualRecords[[#This Row],[Name]],YearRecord[Name],0)>0)) -> TRUE | K28: =COUNTIFS(AnnualRecords[Year],AnnualRecords[[#This Row],[Year]],AnnualRecords[Name],AnnualRecords[[#This Row],[Name]]) <= 1 -> TRUE
A29: 2019 | B29: Kent State University | C29: 2 | D29: 2 | F29: 0 | I29: =COUNTIFS(Placement[Year],AnnualRecords[[#This Row],[Year]],Placement[Name],AnnualRecords[[#This Row],[Name]])=AnnualRecords[[#This Row],[Philosophy Placed]] -> TRUE | J29: =NOT(ISNA(MATCH(AnnualRecords[[#This Row],[Name]],YearRecord[Name],0)>0)) -> TRUE | K29: =COUNTIFS(AnnualRecords[Year],AnnualRecords[[#This Row],[Year]],AnnualRecords[Name],AnnualRecords[[#This Row],[Name]]) <= 1 -> TRUE
A30: 2019 | B30: Northern Illinois University | C30: 10 | D30: 6 | F30: 0 | I30: =COUNTIFS(Placement[Year],AnnualRecords[[#This Row],[Year]],Placement[Name],AnnualRecords[[#This Row],[Name]])=AnnualRecords[[#This Row],[Philosophy Placed]] -> TRUE | J30: =NOT(ISNA(MATCH(AnnualRecords[[#This Row],[Name]],YearRecord[Name],0)>0)) -> TRUE | K30: =COUNTIFS(AnnualRecords[Year],AnnualRecords[[#This Row],[Year]],AnnualRecords[Name],AnnualRecords[[#This Row],[Name]]) <= 1 -> TRUE
A31: 2019 | B31: Oklahoma State University | C31: 5 | D31: 1 | E31: 1 | I31: =COUNTIFS(Placement[Year],AnnualRecords[[#This Row],[Year]],Placement[Name],AnnualRecords[[#This Row],[Name]])=AnnualRecords[[#This Row],[Philosophy Placed]] -> TRUE | J31: =NOT(ISNA(MATCH(AnnualRecords[[#This Row],[Name]],YearRecord[Name],0)>0)) -> TRUE | K31: =COUNTIFS(AnnualRecords[Year],AnnualRecords[[#This Row],[Year]],AnnualRecords[Name],AnnualRecords[[#This Row],[Name]]) <= 1 -> TRUE
A32: 2019 | B32: San Francisco State University | C32: 4 | D32: 8 | F32: 1 | I32: =COUNTIFS(Placement[Year],AnnualRecords[[#This Row],[Year]],Placement[Name],AnnualRecords[[#This Row],[Name]])=AnnualRecords[[#This Row],[Philosophy Placed]] -> TRUE | J32: =NOT(ISNA(MATCH(AnnualRecords[[#This Row],[Name]],YearRecord[Name],0)>0)) -> TRUE | K32: =COUNTIFS(AnnualRecords[Year],AnnualRecords[[#This Row],[Year]],AnnualRecords[Name],AnnualRecords[[#This Row],[Name]]) <= 1 -> TRUE
A33: 2019 | B33: Simon Fraser University | C33: 7 | D33: 7 | F33: 0 | I33: =COUNTIFS(Placement[Year],AnnualRecords[[#This Row],[Year]],Placement[Name],AnnualRecords[[#This Row],[Name]])=AnnualRecords[[#This Row],[Philosophy Placed]] -> TRUE | J33: =NOT(ISNA(MATCH(AnnualRecords[[#This Row],[Name]],YearRecord[Name],0)>0)) -> TRUE | K33: =COUNTIFS(AnnualRecords[Year],AnnualRecords[[#This Row],[Year]],AnnualRecords[Name],AnnualRecords[[#This Row],[Name]]) <= 1 -> TRUE
A34: 2019 | B34: Texas Tech University | C34: 6 | D34: 3 | F34: 0 | I34: =COUNTIFS(Placement[Year],AnnualRecords[[#This Row],[Year]],Placement[Name],AnnualRecords[[#This Row],[Name]])=AnnualRecords[[#This Row],[Philosophy Placed]] -> TRUE | J34: =NOT(ISNA(MATCH(AnnualRecords[[#This Row],[Name]],YearRecord[Name],0)>0)) -> TRUE | K34: =COUNTIFS(AnnualRecords[Year],AnnualRecords[[#This Row],[Year]],AnnualRecords[Name],AnnualRecords[[#This Row],[Name]]) <= 1 -> TRUE
A35: 2019 | B35: Tufts University | C35: 10 | D35: 9 | F35: 1 | I35: =COUNTIFS(Placement[Year],AnnualRecords[[#This Row],[Year]],Placement[Name],AnnualRecords[[#This Row],[Name]])=AnnualRecords[[#This Row],[Philosophy Placed]] -> TRUE | J35: =NOT(ISNA(MATCH(AnnualRecords[[#This Row],[Name]],YearRecord[Name],0)>0)) -> TRUE | K35: =COUNTIFS(AnnualRecords[Year],AnnualRecords[[#This Row],[Year]],AnnualRecords[Name],AnnualRecords[[#This Row],[Name]]) <= 1 -> TRUE
A36: 2019 | B36: University of Houston | C36: 5 | D36: 5 | F36: 0 | I36: =COUNTIFS(Placement[Year],AnnualRecords[[#This Row],[Year]],Placement[Name],AnnualRecords[[#This Row],[Name]])=AnnualRecords[[#This Row],[Philosophy Placed]] -> TRUE | J36: =NOT(ISNA(MATCH(AnnualRecords[[#This Row],[Name]],YearRecord[Name],0)>0)) -> TRUE | K36: =COUNTIFS(AnnualRecords[Year],AnnualRecords[[#This Row],[Year]],AnnualRecords[Name],AnnualRecords[[#This Row],[Name]]) <= 1 -> TRUE
A37: 2019 | B37: University of Mississippi | C37: 1 | D37: 1 | F37: 0 | I37: =COUNTIFS(Placement[Year],AnnualRecords[[#This Row],[Year]],Placement[Name],AnnualRecords[[#This Row],[Name]])=AnnualRecords[[#This Row],[Philosophy Placed]] -> TRUE | J37: =NOT(ISNA(MATCH(AnnualRecords[[#This Row],[Name]],YearRecord[Name],0)>0)) -> TRUE | K37: =COUNTIFS(AnnualRecords[Year],AnnualRecords[[#This Row],[Year]],AnnualRecords[Name],AnnualRecords[[#This Row],[Name]]) <= 1 -> TRUE
A38: 2019 | B38: University of North Carolina, Charlotte | C38: 7 | D38: 1 | F38: 0 | I38: =COUNTIFS(Placement[Year],AnnualRecords[[#This Row],[Year]],Placement[Name],AnnualRecords[[#This Row],[Name]])=AnnualRecords[[#This Row],[Philosophy Placed]] -> TRUE | J38: =NOT(ISNA(MATCH(AnnualRecords[[#This Row],[Name]],YearRecord[Name],0)>0)) -> TRUE | K38: =COUNTIFS(AnnualRecords[Year],AnnualRecords[[#This Row],[Year]],AnnualRecords[Name],AnnualRecords[[#This Row],[Name]]) <= 1 -> TRUE
A39: 2019 | B39: University of Wisconsin, Milwaukee | C39: 12 | D39: 8 | F39: 0 | I39: =COUNTIFS(Placement[Year],AnnualRecords[[#This Row],[Year]],Placement[Name],AnnualRecords[[#This Row],[Name]])=AnnualRecords[[#This Row],[Philosophy Placed]] -> TRUE | J39: =NOT(ISNA(MATCH(AnnualRecords[[#This Row],[Name]],YearRecord[Name],0)>0)) -> TRUE | K39: =COUNTIFS(AnnualRecords[Year],AnnualRecords[[#This Row],[Year]],AnnualRecords[Name],AnnualRecords[[#This Row],[Name]]) <= 1 -> TRUE
A40: 2019 | B40: Virginia Tech | C40: 4 | D40: 4 | F40: 0 | I40: =COUNTIFS(Placement[Year],AnnualRecords[[#This Row],[Year]],Placement[Name],AnnualRecords[[#This Row],[Name]])=AnnualRecords[[#This Row],[Philosophy Placed]] -> TRUE | J40: =NOT(ISNA(MATCH(AnnualRecords[[#This Row],[Name]],YearRecord[Name],0)>0)) -> TRUE | K40: =COUNTIFS(AnnualRecords[Year],AnnualRecords[[#This Row],[Year]],AnnualRecords[Name],AnnualRecords[[#This Row],[Name]]) <= 1 -> TRUE
...

Sheet Philosophy Placement Record
A1: Year | B1: Name | C1: Placement | D1: CHECKPlacementExists
A2: 2018 | B2: California State University, Long Beach | C2: University of Connecticut, Storrs | D2: =OR(NOT(ISNA(MATCH(Placement[[#This Row],[Placement]],USPGR[Institutions],0))),NOT(ISNA(MATCH(Placement[[#This Row],[Placement]],GLOBALPGR[Institutions],0))),NOT(ISNA(MATCH(Placement[[#This Row],[Placement]],AdditionalPhDs[Institutions],0)))) -> TRUE
A3: 2019 | B3: California State University, Long Beach | C3: University of Cincinnati | D3: =OR(NOT(ISNA(MATCH(Placement[[#This Row],[Placement]],USPGR[Institutions],0))),NOT(ISNA(MATCH(Placement[[#This Row],[Placement]],GLOBALPGR[Institutions],0))),NOT(ISNA(MATCH(Placement[[#This Row],[Placement]],AdditionalPhDs[Institutions],0)))) -> TRUE
A4: 2020 | B4: California State University, Long Beach | C4: University of Wisconsin, Madison | D4: =OR(NOT(ISNA(MATCH(Placement[[#This Row],[Placement]],USPGR[Institutions],0))),NOT(ISNA(MATCH(Placement[[#This Row],[Placement]],GLOBALPGR[Institutions],0))),NOT(ISNA(MATCH(Placement[[#This Row],[Placement]],AdditionalPhDs[Institutions],0)))) -> TRUE
A5: 2021 | B5: California State University, Long Beach | C5: University of Memphis | D5: =OR(NOT(ISNA(MATCH(Placement[[#This Row],[Placement]],USPGR[Institutions],0))),NOT(ISNA(MATCH(Placement[[#This Row],[Placement]],GLOBALPGR[Institutions],0))),NOT(ISNA(MATCH(Placement[[#This Row],[Placement]],AdditionalPhDs[Institutions],0)))) -> FALSE
A6: 2021 | B6: California State University, Long Beach | C6: University of California, Irvine | D6: =OR(NOT(ISNA(MATCH(Placement[[#This Row],[Placement]],USPGR[Institutions],0))),NOT(ISNA(MATCH(Placement[[#This Row],[Placement]],GLOBALPGR[Institutions],0))),NOT(ISNA(MATCH(Placement[[#This Row],[Placement]],AdditionalPhDs[Institutions],0)))) -> TRUE
A7: 2021 | B7: California State University, Long Beach | C7: University of Pittsburgh | D7: =OR(NOT(ISNA(MATCH(Placement[[#This Row],[Placement]],USPGR[Institutions],0))),NOT(ISNA(MATCH(Placement[[#This Row],[Placement]],GLOBALPGR[Institutions],0))),NOT(ISNA(MATCH(Placement[[#This Row],[Placement]],AdditionalPhDs[Institutions],0)))) -> TRUE
A8: 2022 | B8: California State University, Long Beach | C8: University of Pennsylvania | D8: =OR(NOT(ISNA(MATCH(Placement[[#This Row],[Placement]],USPGR[Institutions],0))),NOT(ISNA(MATCH(Placement[[#This Row],[Placement]],GLOBALPGR[Institutions],0))),NOT(ISNA(MATCH(Placement[[#This Row],[Placement]],AdditionalPhDs[Institutions],0)))) -> TRUE
A9: 2022 | B9: California State University, Long Beach | C9: University of California, Riverside | D9: =OR(NOT(ISNA(MATCH(Placement[[#This Row],[Placement]],USPGR[Institutions],0))),NOT(ISNA(MATCH(Placement[[#This Row],[Placement]],GLOBALPGR[Institutions],0))),NOT(ISNA(MATCH(Placement[[#This Row],[Placement]],AdditionalPhDs[Institutions],0)))) -> TRUE
A10: 2022 | B10: California State University, Long Beach | C10: University of Texas, Austin | D10: =OR(NOT(ISNA(MATCH(Placement[[#This Row],[Placement]],USPGR[Institutions],0))),NOT(ISNA(MATCH(Placement[[#This Row],[Placement]],GLOBALPGR[Institutions],0))),NOT(ISNA(MATCH(Placement[[#This Row],[Placement]],AdditionalPhDs[Institutions],0)))) -> TRUE
A11: 2023 | B11: California State University, Long Beach | C11: Saint Louis University | D11: =OR(NOT(ISNA(MATCH(Placement[[#This Row],[Placement]],USPGR[Institutions],0))),NOT(ISNA(MATCH(Placement[[#This Row],[Placement]],GLOBALPGR[Institutions],0))),NOT(ISNA(MATCH(Placement[[#This Row],[Placement]],AdditionalPhDs[Institutions],0)))) -> TRUE
A12: 2018 | B12: California State University, Los Angeles | C12: University of Tennessee, Knoxville | D12: =OR(NOT(ISNA(MATCH(Placement[[#This Row],[Placement]],USPGR[Institutions],0))),NOT(ISNA(MATCH(Placement[[#This Row],[Placement]],GLOBALPGR[Institutions],0))),NOT(ISNA(MATCH(Placement[[#This Row],[Placement]],AdditionalPhDs[Institutions],0)))) -> FALSE
A13: 2019 | B13: California State University, Los Angeles | C13: Villanova University | D13: =OR(NOT(ISNA(MATCH(Placement[[#This Row],[Placement]],USPGR[Institutions],0))),NOT(ISNA(MATCH(Placement[[#This Row],[Placement]],GLOBALPGR[Institutions],0))),NOT(ISNA(MATCH(Placement[[#This Row],[Placement]],AdditionalPhDs[Institutions],0)))) -> FALSE
... A498: 2024 | B498: University of Wisconsin, Milwaukee | C498: University of Maryland, College Park | D498: =OR(NOT(ISNA(MATCH(Placement[[#This Row],[Placement]],USPGR[Institutions],0))),NOT(ISNA(MATCH(Placement[[#This Row],[Placement]],GLOBALPGR[Institutions],0))),NOT(ISNA(MATCH(Placement[[#This Row],[Placement]],AdditionalPhDs[Institutions],0)))) -> TRUE
A499: 2025 | B499: University of Florida | C499: University of Florida
A500: 2025 | B500: Tufts University | C500: LMU Munich | D500: =OR(NOT(ISNA(MATCH(Placement[[#This Row],[Placement]],USPGR[Institutions],0))),NOT(ISNA(MATCH(Placement[[#This Row],[Placement]],GLOBALPGR[Institutions],0))),NOT(ISNA(MATCH(Placement[[#This Row],[Placement]],AdditionalPhDs[Institutions],0)))) -> FALSE
A501: 2025 | B501: Tufts University | C501: University of Chicago | D501: =OR(NOT(ISNA(MATCH(Placement[[#This Row],[Placement]],USPGR[Institutions],0))),NOT(ISNA(MATCH(Placement[[#This Row],[Placement]],GLOBALPGR[Institutions],0))),NOT(ISNA(MATCH(Placement[[#This Row],[Placement]],AdditionalPhDs[Institutions],0)))) -> TRUE
A502: 2025 | B502: Tufts University | C502: University of Massachusetts, Amherst | D502: =OR(NOT(ISNA(MATCH(Placement[[#This Row],[Placement]],USPGR[Institutions],0))),NOT(ISNA(MATCH(Placement[[#This Row],[Placement]],GLOBALPGR[Institutions],0))),NOT(ISNA(MATCH(Placement[[#This Row],[Placement]],AdditionalPhDs[Institutions],0)))) -> TRUE
A503: 2025 | B503: Tufts University | C503: Johns Hopkins University | D503: =OR(NOT(ISNA(MATCH(Placement[[#This Row],[Placement]],USPGR[Institutions],0))),NOT(ISNA(MATCH(Placement[[#This Row],[Placement]],GLOBALPGR[Institutions],0))),NOT(ISNA(MATCH(Placement[[#This Row],[Placement]],AdditionalPhDs[Institutions],0)))) -> TRUE
A504: 2025 | B504: Tufts University | C504: New York University | D504: =OR(NOT(ISNA(MATCH(Placement[[#This Row],[Placement]],USPGR[Institutions],0))),NOT(ISNA(MATCH(Placement[[#This Row],[Placement]],GLOBALPGR[Institutions],0))),NOT(ISNA(MATCH(Placement[[#This Row],[Placement]],AdditionalPhDs[Institutions],0)))) -> TRUE
A505: 2025 | B505: Tufts University | C505: University of North Carolina, Chapel Hill | D505: =OR(NOT(ISNA(MATCH(Placement[[#This Row],[Placement]],USPGR[Institutions],0))),NOT(ISNA(MATCH(Placement[[#This Row],[Placement]],GLOBALPGR[Institutions],0))),NOT(ISNA(MATCH(Placement[[#This Row],[Placement]],AdditionalPhDs[Institutions],0)))) -> TRUE
A506: 2025 | B506: Tufts University | C506: Rutgers University, New Brunswick | D506: =OR(NOT(ISNA(MATCH(Placement[[#This Row],[Placement]],USPGR[Institutions],0))),NOT(ISNA(MATCH(Placement[[#This Row],[Placement]],GLOBALPGR[Institutions],0))),NOT(ISNA(MATCH(Placement[[#This Row],[Placement]],AdditionalPhDs[Institutions],0)))) -> TRUE
A507: 2025 | B507: Tufts University | C507: University of California, Los Angeles | D507: =OR(NOT(ISNA(MATCH(Placement[[#This Row],[Placement]],USPGR[Institutions],0))),NOT(ISNA(MATCH(Placement[[#This Row],[Placement]],GLOBALPGR[Institutions],0))),NOT(ISNA(MATCH(Placement[[#This Row],[Placement]],AdditionalPhDs[Institutions],0)))) -> TRUE
A508: 2024 | B508: Tufts University | C508: Western University, Ontario | D508: =OR(NOT(ISNA(MATCH(Placement[[#This Row],[Placement]],USPGR[Institutions],0))),NOT(ISNA(MATCH(Placement[[#This Row],[Placement]],GLOBALPGR[Institutions],0))),NOT(ISNA(MATCH(Placement[[#This Row],[Placement]],AdditionalPhDs[Institutions],0)))) -> FALSE
A509: 2024 | B509: Tufts University | C509: University of Pittsburgh | D509: =OR(NOT(ISNA(MATCH(Placement[[#This Row],[Placement]],USPGR[Institutions],0))),NOT(ISNA(MATCH(Placement[[#This Row],[Placement]],GLOBALPGR[Institutions],0))),NOT(ISNA(MATCH(Placement[[#This Row],[Placement]],AdditionalPhDs[Institutions],0)))) -> TRUE
A510: 2025 | B510: Western Michigan University | C510: University of California, Los Angeles | D510: =OR(NOT(ISNA(MATCH(Placement[[#This Row],[Placement]],USPGR[Institutions],0))),NOT(ISNA(MATCH(Placement[[#This Row],[Placement]],GLOBALPGR[Institutions],0))),NOT(ISNA(MATCH(Placement[[#This Row],[Placement]],AdditionalPhDs[Institutions],0)))) -> TRUE
A511: 2025 | B511: Western Michigan University | C511: University of Cincinnati | D511: =OR(NOT(ISNA(MATCH(Placement[[#This Row],[Placement]],USPGR[Institutions],0))),NOT(ISNA(MATCH(Placement[[#This Row],[Placement]],GLOBALPGR[Institutions],0))),NOT(ISNA(MATCH(Placement[[#This Row],[Placement]],AdditionalPhDs[Institutions],0)))) -> TRUE
... A661: 2026 | B661: Georgia State University | C661: University of Cincinnati | D661: =OR(NOT(ISNA(MATCH(Placement[[#This Row],[Placement]],USPGR[Institutions],0))),NOT(ISNA(MATCH(Placement[[#This Row],[Placement]],GLOBALPGR[Institutions],0))),NOT(ISNA(MATCH(Placement[[#This Row],[Placement]],AdditionalPhDs[Institutions],0)))) -> TRUE
D662: =OR(NOT(ISNA(MATCH(Placement[[#This Row],[Placement]],USPGR[Institutions],0))),NOT(ISNA(MATCH(Placement[[#This Row],[Placement]],GLOBALPGR[Institutions],0))),NOT(ISNA(MATCH(Placement[[#This Row],[Placement]],AdditionalPhDs[Institutions],0)))) -> TRUE
D663: =OR(NOT(ISNA(MATCH(Placement[[#This Row],[Placement]],USPGR[Institutions],0))),NOT(ISNA(MATCH(Placement[[#This Row],[Placement]],GLOBALPGR[Institutions],0))),NOT(ISNA(MATCH(Placement[[#This Row],[Placement]],AdditionalPhDs[Institutions],0)))) -> TRUE
D664: =OR(NOT(ISNA(MATCH(Placement[[#This Row],[Placement]],USPGR[Institutions],0))),NOT(ISNA(MATCH(Placement[[#This Row],[Placement]],GLOBALPGR[Institutions],0))),NOT(ISNA(MATCH(Placement[[#This Row],[Placement]],AdditionalPhDs[Institutions],0)))) -> TRUE
D665: =OR(NOT(ISNA(MATCH(Placement[[#This Row],[Placement]],USPGR[Institutions],0))),NOT(ISNA(MATCH(Placement[[#This Row],[Placement]],GLOBALPGR[Institutions],0))),NOT(ISNA(MATCH(Placement[[#This Row],[Placement]],AdditionalPhDs[Institutions],0)))) -> TRUE

Sheet Law Placement Record
A1: Year | B1: Name | C1: Law Placement
A2: 2019 | B2: Colorado State University | C2: University of Utah
A3: 2018 | B3: Florida State University | C3: New York University
A4: 2019 | B4: San Jose State University | C4: Santa Clara University
A5: 2026 | B5: University of Wisconsin, Milwaukee | C5: Washington University in St. Louis
A6: 2026 | B6: Western Michigan University | C6: University of Pennsylvania
A7: 2026 | B7: Colorado State University | C7: University of South Caorlina
A8: 2026 | B8: Kent State University | C8: University of Michigan
A9: 2026 | B9: Tufts University | C9: Harvard University
A10: 2026 | B10: Tufts University | C10: University of Toronto
A11: 2026 | B11: Tufts University | C11: University of California, Berkeley
A12: 2026 | B12: University of Houston | C12: Western University

Sheet Year Record
A1: Name | B1: 2018 | C1: 2019 | D1: 2020 | E1: 2021 | F1: 2022 | G1: 2023 | H1: 2024 | I1: 2025
A2: Brandeis University | B2: =IF(COUNTIFS('Annual Records'!$B$2:$B$9999,$A2,'Annual Records'!$A$2:$A$9999,YearRecord[[#Headers],[2018]])>=1,"X","") -> X | C2: =IF(COUNTIFS('Annual Records'!$B$2:$B$9999,$A2,'Annual Records'!$A$2:$A$9999,YearRecord[[#Headers],[2019]])>=1,"X","") -> X | D2: =IF(COUNTIFS('Annual Records'!$B$2:$B$9999,$A2,'Annual Records'!$A$2:$A$9999,YearRecord[[#Headers],[2020]])>=1,"X","") -> X | E2: =IF(COUNTIFS('Annual Records'!$B$2:$B$9999,$A2,'Annual Records'!$A$2:$A$9999,YearRecord[[#Headers],[2021]])>=1,"X","") -> X | F2: =IF(COUNTIFS('Annual Records'!$B$2:$B$9999,$A2,'Annual Records'!$A$2:$A$9999,YearRecord[[#Headers],[2022]])>=1,"X","") -> X | G2: =IF(COUNTIFS('Annual Records'!$B$2:$B$9999,$A2,'Annual Records'!$A$2:$A$9999,YearRecord[[#Headers],[2023]])>=1,"X","") -> X | H2: =IF(COUNTIFS('Annual Records'!$B$2:$B$9999,$A2,'Annual Records'!$A$2:$A$9999,YearRecord[[#Headers],[2024]])>=1,"X","") -> X
A3: California State University, Long Beach | B3: =IF(COUNTIFS('Annual Records'!$B$2:$B$9999,$A3,'Annual Records'!$A$2:$A$9999,YearRecord[[#Headers],[2018]])>=1,"X","") -> X | C3: =IF(COUNTIFS('Annual Records'!$B$2:$B$9999,$A3,'Annual Records'!$A$2:$A$9999,YearRecord[[#Headers],[2019]])>=1,"X","") -> X | D3: =IF(COUNTIFS('Annual Records'!$B$2:$B$9999,$A3,'Annual Records'!$A$2:$A$9999,YearRecord[[#Headers],[2020]])>=1,"X","") -> X | E3: =IF(COUNTIFS('Annual Records'!$B$2:$B$9999,$A3,'Annual Records'!$A$2:$A$9999,YearRecord[[#Headers],[2021]])>=1,"X","") -> X | F3: =IF(COUNTIFS('Annual Records'!$B$2:$B$9999,$A3,'Annual Records'!$A$2:$A$9999,YearRecord[[#Headers],[2022]])>=1,"X","") -> X | G3: =IF(COUNTIFS('Annual Records'!$B$2:$B$9999,$A3,'Annual Records'!$A$2:$A$9999,YearRecord[[#Headers],[2023]])>=1,"X","") -> X | H3: =IF(COUNTIFS('Annual Records'!$B$2:$B$9999,$A3,'Annual Records'!$A$2:$A$9999,YearRecord[[#Headers],[2024]])>=1,"X","") -> X | I3: X
A4: California State University, Los Angeles | B4: =IF(COUNTIFS('Annual Records'!$B$2:$B$9999,$A4,'Annual Records'!$A$2:$A$9999,YearRecord[[#Headers],[2018]])>=1,"X","") -> X | C4: =IF(COUNTIFS('Annual Records'!$B$2:$B$9999,$A4,'Annual Records'!$A$2:$A$9999,YearRecord[[#Headers],[2019]])>=1,"X","") -> X | D4: =IF(COUNTIFS('Annual Records'!$B$2:$B$9999,$A4,'Annual Records'!$A$2:$A$9999,YearRecord[[#Headers],[2020]])>=1,"X","") -> X | E4: =IF(COUNTIFS('Annual Records'!$B$2:$B$9999,$A4,'Annual Records'!$A$2:$A$9999,YearRecord[[#Headers],[2021]])>=1,"X","") -> X | F4: =IF(COUNTIFS('Annual Records'!$B$2:$B$9999,$A4,'Annual Records'!$A$2:$A$9999,YearRecord[[#Headers],[2022]])>=1,"X","") -> X | G4: =IF(COUNTIFS('Annual Records'!$B$2:$B$9999,$A4,'Annual Records'!$A$2:$A$9999,YearRecord[[#Headers],[2023]])>=1,"X","") -> X | H4: =IF(COUNTIFS('Annual Records'!$B$2:$B$9999,$A4,'Annual Records'!$A$2:$A$9999,YearRecord[[#Headers],[2024]])>=1,"X","") -> X | I4: X
A5: Georgia State University | B5: =IF(COUNTIFS('Annual Records'!$B$2:$B$9999,$A5,'Annual Records'!$A$2:$A$9999,YearRecord[[#Headers],[2018]])>=1,"X","") -> X | C5: =IF(COUNTIFS('Annual Records'!$B$2:$B$9999,$A5,'Annual Records'!$A$2:$A$9999,YearRecord[[#Headers],[2019]])>=1,"X","") -> X | D5: =IF(COUNTIFS('Annual Records'!$B$2:$B$9999,$A5,'Annual Records'!$A$2:$A$9999,YearRecord[[#Headers],[2020]])>=1,"X","") -> X | E5: =IF(COUNTIFS('Annual Records'!$B$2:$B$9999,$A5,'Annual Records'!$A$2:$A$9999,YearRecord[[#Headers],[2021]])>=1,"X","") -> X | F5: =IF(COUNTIFS('Annual Records'!$B$2:$B$9999,$A5,'Annual Records'!$A$2:$A$9999,YearRecord[[#Headers],[2022]])>=1,"X","") -> X | G5: =IF(COUNTIFS('Annual Records'!$B$2:$B$9999,$A5,'Annual Records'!$A$2:$A$9999,YearRecord[[#Headers],[2023]])>=1,"X","") -> X | H5: =IF(COUNTIFS('Annual Records'!$B$2:$B$9999,$A5,'Annual Records'!$A$2:$A$9999,YearRecord[[#Headers],[2024]])>=1,"X","") -> X | I5: V
A6: Kent State University | B6: =IF(COUNTIFS('Annual Records'!$B$2:$B$9999,$A6,'Annual Records'!$A$2:$A$9999,YearRecord[[#Headers],[2018]])>=1,"X","") -> X | C6: =IF(COUNTIFS('Annual Records'!$B$2:$B$9999,$A6,'Annual Records'!$A$2:$A$9999,YearRecord[[#Headers],[2019]])>=1,"X","") -> X | D6: =IF(COUNTIFS('Annual Records'!$B$2:$B$9999,$A6,'Annual Records'!$A$2:$A$9999,YearRecord[[#Headers],[2020]])>=1,"X","") -> X | E6: =IF(COUNTIFS('Annual Records'!$B$2:$B$9999,$A6,'Annual Records'!$A$2:$A$9999,YearRecord[[#Headers],[2021]])>=1,"X","") -> X | F6: =IF(COUNTIFS('Annual Records'!$B$2:$B$9999,$A6,'Annual Records'!$A$2:$A$9999,YearRecord[[#Headers],[2022]])>=1,"X","") -> X | G6: =IF(COUNTIFS('Annual Records'!$B$2:$B$9999,$A6,'Annual Records'!$A$2:$A$9999,YearRecord[[#Headers],[2023]])>=1,"X","") -> X | H6: =IF(COUNTIFS('Annual Records'!$B$2:$B$9999,$A6,'Annual Records'!$A$2:$A$9999,YearRecord[[#Headers],[2024]])>=1,"X","") -> X | I6: V
A7: Northern Illinois University | B7: =IF(COUNTIFS('Annual Records'!$B$2:$B$9999,$A7,'Annual Records'!$A$2:$A$9999,YearRecord[[#Headers],[2018]])>=1,"X","") -> X | C7: =IF(COUNTIFS('Annual Records'!$B$2:$B$9999,$A7,'Annual Records'!$A$2:$A$9999,YearRecord[[#Headers],[2019]])>=1,"X","") -> X | D7: =IF(COUNTIFS('Annual Records'!$B$2:$B$9999,$A7,'Annual Records'!$A$2:$A$9999,YearRecord[[#Headers],[2020]])>=1,"X","") -> X | E7: =IF(COUNTIFS('Annual Records'!$B$2:$B$9999,$A7,'Annual Records'!$A$2:$A$9999,YearRecord[[#Headers],[2021]])>=1,"X","") -> X | F7: =IF(COUNTIFS('Annual Records'!$B$2:$B$9999,$A7,'Annual Records'!$A$2:$A$9999,YearRecord[[#Headers],[2022]])>=1,"X","") -> X | G7: =IF(COUNTIFS('Annual Records'!$B$2:$B$9999,$A7,'Annual Records'!$A$2:$A$9999,YearRecord[[#Headers],[2023]])>=1,"X","") -> X | H7: =IF(COUNTIFS('Annual Records'!$B$2:$B$9999,$A7,'Annual Records'!$A$2:$A$9999,YearRecord[[#Headers],[2024]])>=1,"X","") -> X | I7: X
A8: Oklahoma State University | B8: =IF(COUNTIFS('Annual Records'!$B$2:$B$9999,$A8,'Annual Records'!$A$2:$A$9999,YearRecord[[#Headers],[2018]])>=1,"X","") -> X | C8: =IF(COUNTIFS('Annual Records'!$B$2:$B$9999,$A8,'Annual Records'!$A$2:$A$9999,YearRecord[[#Headers],[2019]])>=1,"X","") -> X | D8: =IF(COUNTIFS('Annual Records'!$B$2:$B$9999,$A8,'Annual Records'!$A$2:$A$9999,YearRecord[[#Headers],[2020]])>=1,"X","") -> X | E8: =IF(COUNTIFS('Annual Records'!$B$2:$B$9999,$A8,'Annual Records'!$A$2:$A$9999,YearRecord[[#Headers],[2021]])>=1,"X","") -> X | F8: =IF(COUNTIFS('Annual Records'!$B$2:$B$9999,$A8,'Annual Records'!$A$2:$A$9999,YearRecord[[#Headers],[2022]])>=1,"X","") -> X | G8: =IF(COUNTIFS('Annual Records'!$B$2:$B$9999,$A8,'Annual Records'!$A$2:$A$9999,YearRecord[[#Headers],[2023]])>=1,"X","") -> X | H8: =IF(COUNTIFS('Annual Records'!$B$2:$B$9999,$A8,'Annual Records'!$A$2:$A$9999,YearRecord[[#Headers],[2024]])>=1,"X","") -> X | I8: X
A9: San Francisco State University | B9: =IF(COUNTIFS('Annual Records'!$B$2:$B$9999,$A9,'Annual Records'!$A$2:$A$9999,YearRecord[[#Headers],[2018]])>=1,"X","") | C9: =IF(COUNTIFS('Annual Records'!$B$2:$B$9999,$A9,'Annual Records'!$A$2:$A$9999,YearRecord[[#Headers],[2019]])>=1,"X","") -> X | D9: =IF(COUNTIFS('Annual Records'!$B$2:$B$9999,$A9,'Annual Records'!$A$2:$A$9999,YearRecord[[#Headers],[2020]])>=1,"X","") -> X | E9: =IF(COUNTIFS('Annual Records'!$B$2:$B$9999,$A9,'Annual Records'!$A$2:$A$9999,YearRecord[[#Headers],[2021]])>=1,"X","") -> X | F9: =IF(COUNTIFS('Annual Records'!$B$2:$B$9999,$A9,'Annual Records'!$A$2:$A$9999,YearRecord[[#Headers],[2022]])>=1,"X","") -> X | G9: =IF(COUNTIFS('Annual Records'!$B$2:$B$9999,$A9,'Annual Records'!$A$2:$A$9999,YearRecord[[#Headers],[2023]])>=1,"X","") -> X | H9: =IF(COUNTIFS('Annual Records'!$B$2:$B$9999,$A9,'Annual Records'!$A$2:$A$9999,YearRecord[[#Headers],[2024]])>=1,"X","") -> X | I9: X
A10: Simon Fraser University | B10: =IF(COUNTIFS('Annual Records'!$B$2:$B$9999,$A10,'Annual Records'!$A$2:$A$9999,YearRecord[[#Headers],[2018]])>=1,"X","") -> X | C10: =IF(COUNTIFS('Annual Records'!$B$2:$B$9999,$A10,'Annual Records'!$A$2:$A$9999,YearRecord[[#Headers],[2019]])>=1,"X","") -> X | D10: =IF(COUNTIFS('Annual Records'!$B$2:$B$9999,$A10,'Annual Records'!$A$2:$A$9999,YearRecord[[#Headers],[2020]])>=1,"X","") -> X | E10: =IF(COUNTIFS('Annual Records'!$B$2:$B$9999,$A10,'Annual Records'!$A$2:$A$9999,YearRecord[[#Headers],[2021]])>=1,"X","") -> X | F10: =IF(COUNTIFS('Annual Records'!$B$2:$B$9999,$A10,'Annual Records'!$A$2:$A$9999,YearRecord[[#Headers],[2022]])>=1,"X","") -> X | G10: =IF(COUNTIFS('Annual Records'!$B$2:$B$9999,$A10,'Annual Records'!$A$2:$A$9999,YearRecord[[#Headers],[2023]])>=1,"X","") -> X | H10: =IF(COUNTIFS('Annual Records'!$B$2:$B$9999,$A10,'Annual Records'!$A$2:$A$9999,YearRecord[[#Headers],[2024]])>=1,"X","") -> X | I10: X
A11: Texas Tech University | B11: =IF(COUNTIFS('Annual Records'!$B$2:$B$9999,$A11,'Annual Records'!$A$2:$A$9999,YearRecord[[#Headers],[2018]])>=1,"X","") -> X | C11: =IF(COUNTIFS('Annual Records'!$B$2:$B$9999,$A11,'Annual Records'!$A$2:$A$9999,YearRecord[[#Headers],[2019]])>=1,"X","") -> X | D11: =IF(COUNTIFS('Annual Records'!$B$2:$B$9999,$A11,'Annual Records'!$A$2:$A$9999,YearRecord[[#Headers],[2020]])>=1,"X","") -> X | E11: =IF(COUNTIFS('Annual Records'!$B$2:$B$9999,$A11,'Annual Records'!$A$2:$A$9999,YearRecord[[#Headers],[2021]])>=1,"X","") -> X | F11: =IF(COUNTIFS('Annual Records'!$B$2:$B$9999,$A11,'Annual Records'!$A$2:$A$9999,YearRecord[[#Headers],[2022]])>=1,"X","") -> X | G11: =IF(COUNTIFS('Annual Records'!$B$2:$B$9999,$A11,'Annual Records'!$A$2:$A$9999,YearRecord[[#Headers],[2023]])>=1,"X","") -> X | H11: =IF(COUNTIFS('Annual Records'!$B$2:$B$9999,$A11,'Annual Records'!$A$2:$A$9999,YearRecord[[#Headers],[2024]])>=1,"X","") -> X | I11: X
A12: Tufts University | B12: =IF(COUNTIFS('Annual Records'!$B$2:$B$9999,$A12,'Annual Records'!$A$2:$A$9999,YearRecord[[#Headers],[2018]])>=1,"X","") -> X | C12: =IF(COUNTIFS('Annual Records'!$B$2:$B$9999,$A12,'Annual Records'!$A$2:$A$9999,YearRecord[[#Headers],[2019]])>=1,"X","") -> X | D12: =IF(COUNTIFS('Annual Records'!$B$2:$B$9999,$A12,'Annual Records'!$A$2:$A$9999,YearRecord[[#Headers],[2020]])>=1,"X","") -> X | E12: =IF(COUNTIFS('Annual Records'!$B$2:$B$9999,$A12,'Annual Records'!$A$2:$A$9999,YearRecord[[#Headers],[2021]])>=1,"X","") -> X | F12: =IF(COUNTIFS('Annual Records'!$B$2:$B$9999,$A12,'Annual Records'!$A$2:$A$9999,YearRecord[[#Headers],[2022]])>=1,"X","") -> X | G12: =IF(COUNTIFS('Annual Records'!$B$2:$B$9999,$A12,'Annual Records'!$A$2:$A$9999,YearRecord[[#Headers],[2023]])>=1,"X","") -> X | H12: =IF(COUNTIFS('Annual Records'!$B$2:$B$9999,$A12,'Annual Records'!$A$2:$A$9999,YearRecord[[#Headers],[2024]])>=1,"X","") -> X | I12: X
A13: University of Houston | B13: =IF(COUNTIFS('Annual Records'!$B$2:$B$9999,$A13,'Annual Records'!$A$2:$A$9999,YearRecord[[#Headers],[2018]])>=1,"X","") -> X | C13: =IF(COUNTIFS('Annual Records'!$B$2:$B$9999,$A13,'Annual Records'!$A$2:$A$9999,YearRecord[[#Headers],[2019]])>=1,"X","") -> X | D13: =IF(COUNTIFS('Annual Records'!$B$2:$B$9999,$A13,'Annual Records'!$A$2:$A$9999,YearRecord[[#Headers],[2020]])>=1,"X","") -> X | E13: =IF(COUNTIFS('Annual Records'!$B$2:$B$9999,$A13,'Annual Records'!$A$2:$A$9999,YearRecord[[#Headers],[2021]])>=1,"X","") -> X | F13: =IF(COUNTIFS('Annual Records'!$B$2:$B$9999,$A13,'Annual Records'!$A$2:$A$9999,YearRecord[[#Headers],[2022]])>=1,"X","") -> X | G13: =IF(COUNTIFS('Annual Records'!$B$2:$B$9999,$A13,'Annual Records'!$A$2:$A$9999,YearRecord[[#Headers],[2023]])>=1,"X","") | H13: =IF(COUNTIFS('Annual Records'!$B$2:$B$9999,$A13,'Annual Records'!$A$2:$A$9999,YearRecord[[#Headers],[2024]])>=1,"X","") -> X | I13: V
A14: University of Mississippi | B14: =IF(COUNTIFS('Annual Records'!$B$2:$B$9999,$A14,'Annual Records'!$A$2:$A$9999,YearRecord[[#Headers],[2018]])>=1,"X","") -> X | C14: =IF(COUNTIFS('Annual Records'!$B$2:$B$9999,$A14,'Annual Records'!$A$2:$A$9999,YearRecord[[#Headers],[2019]])>=1,"X","") -> X | D14: =IF(COUNTIFS('Annual Records'!$B$2:$B$9999,$A14,'Annual Records'!$A$2:$A$9999,YearRecord[[#Headers],[2020]])>=1,"X","") -> X | E14: =IF(COUNTIFS('Annual Records'!$B$2:$B$9999,$A14,'Annual Records'!$A$2:$A$9999,YearRecord[[#Headers],[2021]])>=1,"X","") | F14: =IF(COUNTIFS('Annual Records'!$B$2:$B$9999,$A14,'Annual Records'!$A$2:$A$9999,YearRecord[[#Headers],[2022]])>=1,"X","") | G14: =IF(COUNTIFS('Annual Records'!$B$2:$B$9999,$A14,'Annual Records'!$A$2:$A$9999,YearRecord[[#Headers],[2023]])>=1,"X","") -> X | H14: =IF(COUNTIFS('Annual Records'!$B$2:$B$9999,$A14,'Annual Records'!$A$2:$A$9999,YearRecord[[#Headers],[2024]])>=1,"X","") -> X
A15: University of Missouri Saint Louis | B15: =IF(COUNTIFS('Annual Records'!$B$2:$B$9999,$A15,'Annual Records'!$A$2:$A$9999,YearRecord[[#Headers],[2018]])>=1,"X","") -> X | C15: =IF(COUNTIFS('Annual Records'!$B$2:$B$9999,$A15,'Annual Records'!$A$2:$A$9999,YearRecord[[#Headers],[2019]])>=1,"X","") -> X | D15: =IF(COUNTIFS('Annual Records'!$B$2:$B$9999,$A15,'Annual Records'!$A$2:$A$9999,YearRecord[[#Headers],[2020]])>=1,"X","") -> X | E15: =IF(COUNTIFS('Annual Records'!$B$2:$B$9999,$A15,'Annual Records'!$A$2:$A$9999,YearRecord[[#Headers],[2021]])>=1,"X","") -> X | F15: =IF(COUNTIFS('Annual Records'!$B$2:$B$9999,$A15,'Annual Records'!$A$2:$A$9999,YearRecord[[#Headers],[2022]])>=1,"X","") -> X | G15: =IF(COUNTIFS('Annual Records'!$B$2:$B$9999,$A15,'Annual Records'!$A$2:$A$9999,YearRecord[[#Headers],[2023]])>=1,"X","") -> X | H15: =IF(COUNTIFS('Annual Records'!$B$2:$B$9999,$A15,'Annual Records'!$A$2:$A$9999,YearRecord[[#Headers],[2024]])>=1,"X","") -> X | I15: X
A16: University of North Carolina, Charlotte | B16: =IF(COUNTIFS('Annual Records'!$B$2:$B$9999,$A16,'Annual Records'!$A$2:$A$9999,YearRecord[[#Headers],[2018]])>=1,"X","") -> X | C16: =IF(COUNTIFS('Annual Records'!$B$2:$B$9999,$A16,'Annual Records'!$A$2:$A$9999,YearRecord[[#Headers],[2019]])>=1,"X","") -> X | D16: =IF(COUNTIFS('Annual Records'!$B$2:$B$9999,$A16,'Annual Records'!$A$2:$A$9999,YearRecord[[#Headers],[2020]])>=1,"X","") -> X | E16: =IF(COUNTIFS('Annual Records'!$B$2:$B$9999,$A16,'Annual Records'!$A$2:$A$9999,YearRecord[[#Headers],[2021]])>=1,"X","") -> X | F16: =IF(COUNTIFS('Annual Records'!$B$2:$B$9999,$A16,'Annual Records'!$A$2:$A$9999,YearRecord[[#Headers],[2022]])>=1,"X","") -> X | G16: =IF(COUNTIFS('Annual Records'!$B$2:$B$9999,$A16,'Annual Records'!$A$2:$A$9999,YearRecord[[#Headers],[2023]])>=1,"X","") | H16: =IF(COUNTIFS('Annual Records'!$B$2:$B$9999,$A16,'Annual Records'!$A$2:$A$9999,YearRecord[[#Headers],[2024]])>=1,"X","") -> X | I16: X
A17: University of Wisconsin, Milwaukee | B17: =IF(COUNTIFS('Annual Records'!$B$2:$B$9999,$A17,'Annual Records'!$A$2:$A$9999,YearRecord[[#Headers],[2018]])>=1,"X","") -> X | C17: =IF(COUNTIFS('Annual Records'!$B$2:$B$9999,$A17,'Annual Records'!$A$2:$A$9999,YearRecord[[#Headers],[2019]])>=1,"X","") -> X | D17: =IF(COUNTIFS('Annual Records'!$B$2:$B$9999,$A17,'Annual Records'!$A$2:$A$9999,YearRecord[[#Headers],[2020]])>=1,"X","") -> X | E17: =IF(COUNTIFS('Annual Records'!$B$2:$B$9999,$A17,'Annual Records'!$A$2:$A$9999,YearRecord[[#Headers],[2021]])>=1,"X","") -> X | F17: =IF(COUNTIFS('Annual Records'!$B$2:$B$9999,$A17,'Annual Records'!$A$2:$A$9999,YearRecord[[#Headers],[2022]])>=1,"X","") -> X | G17: =IF(COUNTIFS('Annual Records'!$B$2:$B$9999,$A17,'Annual Records'!$A$2:$A$9999,YearRecord[[#Headers],[2023]])>=1,"X","") -> X | H17: =IF(COUNTIFS('Annual Records'!$B$2:$B$9999,$A17,'Annual Records'!$A$2:$A$9999,YearRecord[[#Headers],[2024]])>=1,"X","") -> X | I17: V
A18: Virginia Tech | B18: =IF(COUNTIFS('Annual Records'!$B$2:$B$9999,$A18,'Annual Records'!$A$2:$A$9999,YearRecord[[#Headers],[2018]])>=1,"X","") -> X | C18: =IF(COUNTIFS('Annual Records'!$B$2:$B$9999,$A18,'Annual Records'!$A$2:$A$9999,YearRecord[[#Headers],[2019]])>=1,"X","") -> X | D18: =IF(COUNTIFS('Annual Records'!$B$2:$B$9999,$A18,'Annual Records'!$A$2:$A$9999,YearRecord[[#Headers],[2020]])>=1,"X","") -> X | E18: =IF(COUNTIFS('Annual Records'!$B$2:$B$9999,$A18,'Annual Records'!$A$2:$A$9999,YearRecord[[#Headers],[2021]])>=1,"X","") -> X | F18: =IF(COUNTIFS('Annual Records'!$B$2:$B$9999,$A18,'Annual Records'!$A$2:$A$9999,YearRecord[[#Headers],[2022]])>=1,"X","") -> X | G18: =IF(COUNTIFS('Annual Records'!$B$2:$B$9999,$A18,'Annual Records'!$A$2:$A$9999,YearRecord[[#Headers],[2023]])>=1,"X","") -> X | H18: =IF(COUNTIFS('Annual Records'!$B$2:$B$9999,$A18,'Annual Records'!$A$2:$A$9999,YearRecord[[#Headers],[2024]])>=1,"X","") -> X | I18: X
A19: Western Michigan University | B19: =IF(COUNTIFS('Annual Records'!$B$2:$B$9999,$A19,'Annual Records'!$A$2:$A$9999,YearRecord[[#Headers],[2018]])>=1,"X","") -> X | C19: =IF(COUNTIFS('Annual Records'!$B$2:$B$9999,$A19,'Annual Records'!$A$2:$A$9999,YearRecord[[#Headers],[2019]])>=1,"X","") -> X | D19: =IF(COUNTIFS('Annual Records'!$B$2:$B$9999,$A19,'Annual Records'!$A$2:$A$9999,YearRecord[[#Headers],[2020]])>=1,"X","") -> X | E19: =IF(COUNTIFS('Annual Records'!$B$2:$B$9999,$A19,'Annual Records'!$A$2:$A$9999,YearRecord[[#Headers],[2021]])>=1,"X","") -> X | F19: =IF(COUNTIFS('Annual Records'!$B$2:$B$9999,$A19,'Annual Records'!$A$2:$A$9999,YearRecord[[#Headers],[2022]])>=1,"X","") -> X | G19: =IF(COUNTIFS('Annual Records'!$B$2:$B$9999,$A19,'Annual Records'!$A$2:$A$9999,YearRecord[[#Headers],[2023]])>=1,"X","") -> X | H19: =IF(COUNTIFS('Annual Records'!$B$2:$B$9999,$A19,'Annual Records'!$A$2:$A$9999,YearRecord[[#Headers],[2024]])>=1,"X","") -> X | I19: X
A20: Colorado State University | B20: =IF(COUNTIFS('Annual Records'!$B$2:$B$9999,$A20,'Annual Records'!$A$2:$A$9999,YearRecord[[#Headers],[2018]])>=1,"X","") -> X | C20: =IF(COUNTIFS('Annual Records'!$B$2:$B$9999,$A20,'Annual Records'!$A$2:$A$9999,YearRecord[[#Headers],[2019]])>=1,"X","") -> X | D20: =IF(COUNTIFS('Annual Records'!$B$2:$B$9999,$A20,'Annual Records'!$A$2:$A$9999,YearRecord[[#Headers],[2020]])>=1,"X","") -> X | E20: =IF(COUNTIFS('Annual Records'!$B$2:$B$9999,$A20,'Annual Records'!$A$2:$A$9999,YearRecord[[#Headers],[2021]])>=1,"X","") -> X | F20: =IF(COUNTIFS('Annual Records'!$B$2:$B$9999,$A20,'Annual Records'!$A$2:$A$9999,YearRecord[[#Headers],[2022]])>=1,"X","") -> X | G20: =IF(COUNTIFS('Annual Records'!$B$2:$B$9999,$A20,'Annual Records'!$A$2:$A$9999,YearRecord[[#Headers],[2023]])>=1,"X","") -> X | H20: =IF(COUNTIFS('Annual Records'!$B$2:$B$9999,$A20,'Annual Records'!$A$2:$A$9999,YearRecord[[#Headers],[2024]])>=1,"X","") -> X
A21: Florida State University | B21: =IF(COUNTIFS('Annual Records'!$B$2:$B$9999,$A21,'Annual Records'!$A$2:$A$9999,YearRecord[[#Headers],[2018]])>=1,"X","") -> X | C21: =IF(COUNTIFS('Annual Records'!$B$2:$B$9999,$A21,'Annual Records'!$A$2:$A$9999,YearRecord[[#Headers],[2019]])>=1,"X","") -> X | D21: =IF(COUNTIFS('Annual Records'!$B$2:$B$9999,$A21,'Annual Records'!$A$2:$A$9999,YearRecord[[#Headers],[2020]])>=1,"X","") -> X | E21: =IF(COUNTIFS('Annual Records'!$B$2:$B$9999,$A21,'Annual Records'!$A$2:$A$9999,YearRecord[[#Headers],[2021]])>=1,"X","") -> X | F21: =IF(COUNTIFS('Annual Records'!$B$2:$B$9999,$A21,'Annual Records'!$A$2:$A$9999,YearRecord[[#Headers],[2022]])>=1,"X","") -> X | G21: =IF(COUNTIFS('Annual Records'!$B$2:$B$9999,$A21,'Annual Records'!$A$2:$A$9999,YearRecord[[#Headers],[2023]])>=1,"X","") -> X | H21: =IF(COUNTIFS('Annual Records'!$B$2:$B$9999,$A21,'Annual Records'!$A$2:$A$9999,YearRecord[[#Headers],[2024]])>=1,"X","") -> X | I21: X
A22: University of Florida | B22: =IF(COUNTIFS('Annual Records'!$B$2:$B$9999,$A22,'Annual Records'!$A$2:$A$9999,YearRecord[[#Headers],[2018]])>=1,"X","") -> X | C22: =IF(COUNTIFS('Annual Records'!$B$2:$B$9999,$A22,'Annual Records'!$A$2:$A$9999,YearRecord[[#Headers],[2019]])>=1,"X","") -> X | D22: =IF(COUNTIFS('Annual Records'!$B$2:$B$9999,$A22,'Annual Records'!$A$2:$A$9999,YearRecord[[#Headers],[2020]])>=1,"X","") -> X | E22: =IF(COUNTIFS('Annual Records'!$B$2:$B$9999,$A22,'Annual Records'!$A$2:$A$9999,YearRecord[[#Headers],[2021]])>=1,"X","") -> X | F22: =IF(COUNTIFS('Annual Records'!$B$2:$B$9999,$A22,'Annual Records'!$A$2:$A$9999,YearRecord[[#Headers],[2022]])>=1,"X","") -> X | G22: =IF(COUNTIFS('Annual Records'!$B$2:$B$9999,$A22,'Annual Records'!$A$2:$A$9999,YearRecord[[#Headers],[2023]])>=1,"X","") -> X | H22: =IF(COUNTIFS('Annual Records'!$B$2:$B$9999,$A22,'Annual Records'!$A$2:$A$9999,YearRecord[[#Headers],[2024]])>=1,"X","") -> X | I22: X
A23: San Jose State University | B23: =IF(COUNTIFS('Annual Records'!$B$2:$B$9999,$A23,'Annual Records'!$A$2:$A$9999,YearRecord[[#Headers],[2018]])>=1,"X","") -> X | C23: =IF(COUNTIFS('Annual Records'!$B$2:$B$9999,$A23,'Annual Records'!$A$2:$A$9999,YearRecord[[#Headers],[2019]])>=1,"X","") -> X | D23: =IF(COUNTIFS('Annual Records'!$B$2:$B$9999,$A23,'Annual Records'!$A$2:$A$9999,YearRecord[[#Headers],[2020]])>=1,"X","") -> X | E23: =IF(COUNTIFS('Annual Records'!$B$2:$B$9999,$A23,'Annual Records'!$A$2:$A$9999,YearRecord[[#Headers],[2021]])>=1,"X","") -> X | F23: =IF(COUNTIFS('Annual Records'!$B$2:$B$9999,$A23,'Annual Records'!$A$2:$A$9999,YearRecord[[#Headers],[2022]])>=1,"X","") -> X | G23: =IF(COUNTIFS('Annual Records'!$B$2:$B$9999,$A23,'Annual Records'!$A$2:$A$9999,YearRecord[[#Headers],[2023]])>=1,"X","") -> X | H23: =IF(COUNTIFS('Annual Records'!$B$2:$B$9999,$A23,'Annual Records'!$A$2:$A$9999,YearRecord[[#Headers],[2024]])>=1,"X","") -> X | I23: X

Sheet Response Form
A1: Name | B1: 2018 | C1: 2019 | D1: 2020 | E1: 2021 | F1: 2022 | G1: 2023 | H1: 2024 | I1: 2025
A2: Brandeis University | B2: X | C2: X | D2: X | E2: X | F2: X | G2: X
A3: California State University, Long Beach | I3: X
A4: California State University, Los Angeles | I4: X
A5: Georgia State University
A6: Kent State University
A7: Northern Illinois University | I7: X
A8: Oklahoma State University | B8: X | C8: X | D8: X | E8: X | F8: X | G8: X | I8: X
A9: San Francisco State University | I9: X
A10: Simon Fraser University | I10: X
A11: Texas Tech University | I11: X
A12: Tufts University | I12: X
A13: University of Houston
A14: University of Mississippi | I14: X
A15: University of Missouri Saint Louis | B15: X | C15: X | D15: X | E15: X | F15: X | G15: X | I15: X
A16: University of North Carolina, Charlotte | I16: X
A17: University of Wisconsin, Milwaukee | I17: X
A18: Virginia Tech | I18: X
A19: Western Michigan University | I19: X
A20: Colorado State University | B20: X | C20: X | E20: X | F20: X | G20: X
A21: Florida State University | B21: X | C21: X | D21: X | E21: X | F21: X | G21: X | I21: X
A22: University of Florida | B22: X | C22: X | D22: X | E22: X | F22: X | G22: X | I22: X
A23: San Jose State University | B23: X | C23: X | D23: X | E23: X | F23: X | G23: X | I23: X

Sheet Notes
A1: Name | B1: Flag | C1: Note
A2: Brandeis University
A3: California State University, Long Beach
A4: California State University, Los Angeles
A5: Georgia State University
A6: Kent State University
A7: Northern Illinois University
A8: Oklahoma State University
A9: San Francisco State University
A10: Simon Fraser University
A11: Texas Tech University
A12: Tufts University
A13: University of Houston
... A19: Western Michigan University

Sheet Current US PGR
A1: Rank | B1: Institutions | C1: Mean | D1: Median | E1: Mode | F1: LOWER CI | G1: UPPER CI | H1: Region
A2: 1 | B2: New York University | C2: 4.7 | D2: 5 | E2: 5 | F2: 4.7 | G2: 4.8 | H2: USA
A3: 2 | B3: Rutgers University, New Brunswick | C3: 4.5 | D3: 4.5 | E3: 5 | F3: 4.4 | G3: 4.6 | H3: USA
A4: 3 | B4: Princeton University | C4: 4.4 | D4: 4.5 | E4: 5 | F4: 4.3 | G4: 4.5 | H4: USA
A5: 4 | B5: University of Pittsburgh | C5: 4.2 | D5: 4 | E5: 4 | F5: 4 | G5: 4.3 | H5: USA
A6: 5 | B6: University of Michigan, Ann Arbor | C6: 4.1 | D6: 4 | E6: 4 | F6: 4 | G6: 4.3 | H6: USA
A7: 5 | B7: Yale University | C7: 4.1 | D7: 4 | E7: 4 | F7: 4 | G7: 4.2 | H7: USA
A8: 7 | B8: Harvard University | C8: 3.9 | D8: 4 | E8: 4 | F8: 3.8 | G8: 4 | H8: USA
A9: 7 | B9: Massachusetts Institute of Technology | C9: 3.9 | D9: 4 | E9: 4 | F9: 3.8 | G9: 4 | H9: USA
A10: 7 | B10: University of California, Berkeley | C10: 3.9 | D10: 4 | E10: 4 | F10: 3.8 | G10: 4 | H10: USA
A11: 7 | B11: University of California, Los Angeles | C11: 3.9 | D11: 4 | E11: 4 | F11: 3.8 | G11: 4 | H11: USA
A12: 7 | B12: University of Southern California | C12: 3.9 | D12: 4 | E12: 4 | F12: 3.8 | G12: 4 | H12: USA
A13: 12 | B13: City University of New York Graduate Center | C13: 3.8 | D13: 4 | E13: 4 | F13: 3.7 | G13: 3.9 | H13: USA
... A59: 51 | B59: Temple University | C59: 1.6 | D59: 1.5 | E59: 1 | F59: 1.4 | G59: 1.7 | H59: USA

Sheet Current Global PGR
A1: Rank | B1: Institutions | C1: Mean | D1: Median | E1: Mode | F1: LOWER CI | G1: UPPER CI | H1: Region
A2: 1 | B2: New York University | C2: 4.7 | D2: 5 | E2: 5 | F2: 4.7 | G2: 4.8 | H2: USA
A3: 2 | B3: Oxford University | C3: 4.6 | D3: 5 | E3: 5 | F3: 4.5 | G3: 4.7 | H3: UK
A4: 3 | B4: Rutgers University, New Brunswick | C4: 4.5 | D4: 4.5 | E4: 5 | F4: 4.4 | G4: 4.6 | H4: USA
A5: 4 | B5: Princeton University | C5: 4.4 | D5: 4.5 | E5: 5 | F5: 4.3 | G5: 4.5 | H5: USA
A6: 5 | B6: University of Pittsburgh | C6: 4.2 | D6: 4 | E6: 4 | F6: 4 | G6: 4.3 | H6: USA
A7: 6 | B7: University of Michigan, Ann Arbor | C7: 4.1 | D7: 4 | E7: 4 | F7: 4 | G7: 4.3 | H7: USA
A8: 6 | B8: Yale University | C8: 4.1 | D8: 4 | E8: 4 | F8: 4 | G8: 4.2 | H8: USA
A9: 8 | B9: University of Toronto | C9: 4 | D9: 4 | E9: 4 | F9: 3.9 | G9: 4.1 | H9: Canada
A10: 9 | B10: Harvard University | C10: 3.9 | D10: 4 | E10: 4 | F10: 3.8 | G10: 4 | H10: USA
A11: 9 | B11: Massachusetts Institute of Technology | C11: 3.9 | D11: 4 | E11: 4 | F11: 3.8 | G11: 4 | H11: USA
A12: 9 | B12: University of California, Berkeley | C12: 3.9 | D12: 4 | E12: 4 | F12: 3.8 | G12: 4 | H12: USA
A13: 9 | B13: University of California, Los Angeles | C13: 3.9 | D13: 4 | E13: 4 | F13: 3.8 | G13: 4 | H13: USA
... A55: 50 | B55: University of Warwick | C55: 2.7 | D55: 2.5 | E55: 2.5 | F55: 2.5 | G55: 2.8 | H55: UK

Sheet Abbreviations
A1: Name | B1: Abbreviation | D1: DGS | E1: email | F1: discussion forum | G1: 2024 Info
A2: Brandeis University | B2: Brandeis | D2: Peter Epstein | E2: pepstein@brandeis.edu | F2: Y | G2: Y
A3: California State University, Long Beach | B3: CSULB | D3: Max Rosenkrantz | E3: max.rosenkrantz@csulb.edu
A4: California State University, Los Angeles | B4: CSULA | D4: Michael K. Shim | E4: mshim@calstatela.edu
A5: Georgia State University | B5: GSU | D5: O'Keefe, Tim | E5: tokeefe@gsu.edu
A6: Kent State University | B6: KSU | D6: Gina Zavota | E6: gzavota@kent.edu
A7: Northern Illinois University | B7: NIU | D7: Carl Gillett | E7: cgillett@niu.edu
A8: Oklahoma State University | B8: OSU | D8: Lawson, Joanna | E8: joanna.lawson@okstate.edu | F8: Y | G8: Y | H8: Rich Neels | I8: richard.neels@okstate.edu
A9: San Francisco State University | B9: SFSU | D9: Call | E9: jwreid@sfsu.edu | H9: Arezoo Islami (arezooi@sfsu.edu) and Mohammad Azadpur (azad@sfsu.edu).
A10: Simon Fraser University | B10: SFU | D10: Nic Bommarito | E10: philgrad@sfu.ca
A11: Texas Tech University | B11: TTU | D11: Christopher Hom | E11: christopher.hom@ttu.edu | G11: Y | H11: Amy Floweree | I11: Amy.Flowerree@ttu.edu
A12: Tufts University | B12: Tufts | D12: Dilip Ninan | E12: dilip.ninan@tufts.edu
A13: University of Houston | B13: UH | D13: D. Justin Coates | E13: djcoates@uh.edu
A14: University of Mississippi | B14: Ole Miss | D14: Steven C. Skultety (chair) | E14: skultety@olemiss.edu
A15: University of Missouri Saint Louis | B15: UMSL | D15: Lauren Olin | E15: olinl@umsl.edu
A16: University of North Carolina, Charlotte | B16: UNCC | D16: Lisa Rasmussen | E16: lrasmuss@charlotte.edu | F16: Y | G16: Y
A17: University of Wisconsin, Milwaukee | B17: UWM | D17: Blain Neufeld | E17: neufeld@uwm.edu
A18: Virginia Tech | B18: VT | D18: Jordan MacKenzie | E18: jmackenzie@vt.edu
A19: Western Michigan University | B19: WMU | D19: James Martin | E19: james.v.martin@wmich.edu | F19: Y | G19: Y
A20: Colorado State University | B20: CSU | D20: Eirik Lang Harris | E20: eirik.harris@colostate.edu
A21: Florida State University | B21: FSU | D21: Jack Justus | E21: jjustus@fsu.edu
A22: University of Florida | B22: UF | D22: Gene Witmer | E22: gwitmer@ufl.edu | G22: Y
A23: San Jose State University | B23: SJSU | D23: Etienne Bown | E23: etienne.brown@sjsu.edu | G23: Y

Sheet Additional List of PhDs
A1: Institutions
A2: Michigan State University
A3: University of Georgia

Sheet Warning Key
A1: Sheet | B1: Column | C1: Color | D1: WarningCheckColumn | E1: Message
A2: Annual Records | B2: Year | D2: CHECKDuplicateYears | E2: Year and Name show up more than once in the Annual Records. Check for duplicate Year and Name row.
A3: Annual Records | B3: Name | D3: CHECKName | E3: Name does not show up in 'Year Record'. Double check the name or add a new university to 'Year Record'.
A4: Annual Records | B4: Philosophy Placement | D4: CHECKNumPhilPlacements | E4: Number of placements does not match 'Philosophy Placement Record'. Double check number of placements, or edit placement record.
A5: Philosophy Placement Record | B5: Placement | D5: CHECKPlacementExists | E5: Placement institution does not show up on either PGR or Additional PhDs. If this is a new university, add it to Additional List of PhDs. CAREFUL. This warning is intended to catch duplicates with alternative spelling, e.g. "Michigan State" and "Michigan State University". Do not indiscrimately add to Additional List of PhDs.
